BEGIN:VCALENDAR
VERSION:2.0
PRODID:-//Houston Center for Photography - ECPv6.15.18//NONSGML v1.0//EN
CALSCALE:GREGORIAN
METHOD:PUBLISH
X-WR-CALNAME:Houston Center for Photography
X-ORIGINAL-URL:https://hcponline.org
X-WR-CALDESC:Events for Houston Center for Photography
REFRESH-INTERVAL;VALUE=DURATION:PT1H
X-Robots-Tag:noindex
X-PUBLISHED-TTL:PT1H
BEGIN:VTIMEZONE
TZID:UTC
BEGIN:STANDARD
TZOFFSETFROM:+0000
TZOFFSETTO:+0000
TZNAME:UTC
DTSTART:20180101T000000
END:STANDARD
END:VTIMEZONE
BEGIN:VEVENT
DTSTART;TZID=UTC:20190401T190000
DTEND;TZID=UTC:20190401T210000
DTSTAMP:20260420T112441
CREATED:20181128T161421Z
LAST-MODIFIED:20190326T181825Z
UID:3923-1554145200-1554152400@hcponline.org
SUMMARY:Printing
DESCRIPTION:
URL:https://hcponline.org/event/printing-1/
CATEGORIES:Classes
ATTACH;FMTTYPE=image/jpeg:https://hcponline.org/wp-content/uploads/2018/11/critique-group7.jpg
END:VEVENT
BEGIN:VEVENT
DTSTART;TZID=UTC:20190411T180000
DTEND;TZID=UTC:20190411T210000
DTSTAMP:20260420T112441
CREATED:20181128T161443Z
LAST-MODIFIED:20181204T180739Z
UID:3990-1555005600-1555016400@hcponline.org
SUMMARY:Landscape Photography
DESCRIPTION:
URL:https://hcponline.org/event/landscape-photography-8-2/
CATEGORIES:Classes
ATTACH;FMTTYPE=image/jpeg:https://hcponline.org/wp-content/uploads/2018/09/Landscape-Photography-©-Laszlo-Perlaky.jpg
END:VEVENT
BEGIN:VEVENT
DTSTART;TZID=UTC:20190411T180000
DTEND;TZID=UTC:20190411T210000
DTSTAMP:20260420T112441
CREATED:20181128T161448Z
LAST-MODIFIED:20181204T180803Z
UID:4106-1555005600-1555016400@hcponline.org
SUMMARY:Photography I
DESCRIPTION:
URL:https://hcponline.org/event/photography-i-learning-the-basics-235-4/
CATEGORIES:Classes
ATTACH;FMTTYPE=image/jpeg:https://hcponline.org/wp-content/uploads/2018/09/Laura-Napier-2.jpg
END:VEVENT
BEGIN:VEVENT
DTSTART;TZID=UTC:20190413T110000
DTEND;TZID=UTC:20190413T180000
DTSTAMP:20260420T112441
CREATED:20181128T220108Z
LAST-MODIFIED:20190123T160411Z
UID:4168-1555153200-1555178400@hcponline.org
SUMMARY:Positioning Your Work
DESCRIPTION:
URL:https://hcponline.org/event/positioning-your-work-1/
CATEGORIES:Classes
ATTACH;FMTTYPE=image/jpeg:https://hcponline.org/wp-content/uploads/2018/11/©-Brandon-Thibodeaux.jpg
END:VEVENT
BEGIN:VEVENT
DTSTART;TZID=UTC:20190420T120000
DTEND;TZID=UTC:20190420T130000
DTSTAMP:20260420T112441
CREATED:20190408T164059Z
LAST-MODIFIED:20190417T160647Z
UID:5867-1555761600-1555765200@hcponline.org
SUMMARY:April Capture Crawl - SOLD OUT
DESCRIPTION:
URL:https://hcponline.org/event/april-capture-crawl/
LOCATION:Houston Metropolitan Research Center at the Julia Ideson Building\, 550 McKinney St.\, Houston\, TX\, 77002
ATTACH;FMTTYPE=image/jpeg:https://hcponline.org/wp-content/uploads/2019/04/HPL-Julia-Ideson-Building.jpg
END:VEVENT
BEGIN:VEVENT
DTSTART;TZID=UTC:20190422T190000
DTEND;TZID=UTC:20190422T210000
DTSTAMP:20260420T112441
CREATED:20190213T185247Z
LAST-MODIFIED:20190221T212930Z
UID:5088-1555959600-1555966800@hcponline.org
SUMMARY:A Festive Dinner Experience
DESCRIPTION:Marcos Lopez\, Il Piccolo Vapore\, Buenos Aires\, Argentina\, 2007\nIn support of the exhibition\, Photography at its Limits (on view March 15  – April 28\, 2019)\, join Libbie and Mariquita Masterson in Houston Center for Photography’s galleries for a not-soon-to-be-forgotten dinner experience\, created by two of Houston’s most fanciful ﬁesta-throwers. Sip cocktails inside an Oscar Muñoz projection and dine with a lively group of friends while supporting the exhibition\, Photography at its Limits: Marcos Lopez\, Joiri Minaya\, and Oscar Muñoz\, curated by Natalia Brizuela and Jodi Roberts\, from their new\, groundbreaking text\, The Matter of Photography in the Americas. We promise\, food will not be too hot for human consumption! \n$400 per person | Limited to 25 guests  \nApril 22\, 2019 at 7 pm at Houston Center for Photography \nPurchase Tickets\nGuests must purchase tickets by February 28\, 2019
URL:https://hcponline.org/event/a-festive-dinner-experience/
LOCATION:Houston Center for Photography
CATEGORIES:Special Programs,Events
ATTACH;FMTTYPE=image/jpeg:https://hcponline.org/wp-content/uploads/2019/02/Marcos-Lopez.jpg
END:VEVENT
BEGIN:VEVENT
DTSTART;TZID=UTC:20190427T100000
DTEND;TZID=UTC:20190427T130000
DTSTAMP:20260420T112441
CREATED:20181128T161457Z
LAST-MODIFIED:20190427T153058Z
UID:3885-1556359200-1556370000@hcponline.org
SUMMARY:Photography II
DESCRIPTION:
URL:https://hcponline.org/event/photography-ii-4/
CATEGORIES:Classes
ATTACH;FMTTYPE=image/jpeg:https://hcponline.org/wp-content/uploads/2018/11/Photo-II-©-Cristina-Velasquez.jpg
END:VEVENT
BEGIN:VEVENT
DTSTART;TZID=UTC:20190430T180000
DTEND;TZID=UTC:20190430T210000
DTSTAMP:20260420T112441
CREATED:20190318T194654Z
LAST-MODIFIED:20190829T162710Z
UID:5488-1556647200-1556658000@hcponline.org
SUMMARY:April Critique Group
DESCRIPTION:Members: Join us at our April Critique Group\, an insightful way to gain a sense of direction in your photographic work. Dr. Cindy Lisica will lead this group session to review your portfolio and provide feedback. Lisica holds a PhD in Modern and Contemporary Art and has worked with museums around the world from Tate Modern to The Warhol. As a professor\, she has taught at University of Houston\, National University (Los Angeles)\, and University of Pittsburgh\, and currently teaches multiple graduate courses in Art History\, Gallery and Museum Practices\, and Writing About Art at Houston Baptist University. Dr. Lisica regularly serves as a guest curator\, juror\, and speaker at museums\, universities and other art institutions. She is also the owner and director of her eponymous gallery in Montrose\, exhibiting contemporary artists working in various media with a unique focus on hybrid techniques and transnational cultural identity\, often drawing from curatorial and academic connections in Europe\, Asia\, and the Americas. \nThis critique group is ideal for photographers looking for insight on their work for the first time\, or to discuss your ongoing works at any level. We can accommodate up to six showings for critique\, and encourage all members to attend -even if not presenting work- and participate in the conversations. \nTuesday\, April 30\, 2019 – 6-9PM \n  \nNot a Member? \nJOIN NOW\n  \n 
URL:https://hcponline.org/event/march-critique-group-2/
LOCATION:Houston Center for Photography
CATEGORIES:Events
ATTACH;FMTTYPE=image/jpeg:https://hcponline.org/wp-content/uploads/2019/03/Dr-Cindy-Lisica.jpeg
END:VEVENT
END:VCALENDAR